BEGIN:VCALENDAR
VERSION:2.0
PRODID:-//Quality Compassionate Services - ECPv6.15.18//NONSGML v1.0//EN
CALSCALE:GREGORIAN
METHOD:PUBLISH
X-WR-CALNAME:Quality Compassionate Services
X-ORIGINAL-URL:https://qcservices.com.au
X-WR-CALDESC:Events for Quality Compassionate Services
REFRESH-INTERVAL;VALUE=DURATION:PT1H
X-Robots-Tag:noindex
X-PUBLISHED-TTL:PT1H
BEGIN:VTIMEZONE
TZID:Australia/Brisbane
BEGIN:STANDARD
TZOFFSETFROM:+1000
TZOFFSETTO:+1000
TZNAME:AEST
DTSTART:20240101T000000
END:STANDARD
END:VTIMEZONE
BEGIN:VEVENT
DTSTART;TZID=Australia/Brisbane:20250810T113000
DTEND;TZID=Australia/Brisbane:20250810T130000
DTSTAMP:20260423T201244
CREATED:20250803T150057Z
LAST-MODIFIED:20250805T015606Z
UID:28131-1754825400-1754830800@qcservices.com.au
SUMMARY:Workshop - South Brisbane
DESCRIPTION:« All Events\n 				\n				\n				\n				\n					This event has passed. \n				\n				\n				\n				\n					\n	Workshop – South Brisbane				\n				\n				\n				\n					\n	\n	Date & Time:	\n			August 10\, 2025\n\n	\n\n	 @ \n\n\n11:30 am\n\n		\n\n\n\n	\n	 - \n\n1:00 pm\n\n\n\n	\n				\n				\n				\n				\n					\n	\n				\n				\n				\n									DescriptionLanguage: Arabic and English The following workshop is to help CALD communities understand anxiety\, depression\, and PTSD. We will also discuss how to support mental well-being within your community. Refreshments will be provided GUEST SPEAKER:Mr. Samir Elias – PharmacistSPEAKER:Ruby Halaseh – Support Coordinator and Psychosocial Recovery Coach								\n				\n						\n					\n			\n						\n				\n					\n	\n\n	Categories:	\n		PSCB Workshops	\n\n				\n				\n				\n				\n					\n	\n	Tags:	\n		\n	CALD\,\n\n	NDIS\,\n\n	PSCB\,\n\n	PSCB program\,\n\n	PSCB Workshop\,\n\n	Workshop\n	\n\n				\n				\n					\n		\n				\n			\n						\n				\n					\n	\n	Queensland Compassionate Services\n	\n	\n					\n			+61 416 476 011			\n	 \n\n\n	View Organizer Website \n\n\n	\n					\n			info@qcservices.com.au			\n	 \n\n\n\n				\n				\n					\n		\n					\n		\n				\n						\n					\n			\n						\n				\n					\n				\n				\n	\n	74 Ernest St\, South Brisbane\n	\n	\n\n74 Ernest Street\, South Brisbane\n	\n		\n		Brisbane\,\n\n	Queensland\n\n	4101\n\n	Australia\n\n\n\n\n	+ Google Map \n\n\n	\n					\n						\n	 \n\n\n	\n	View Venue Website \n\n\n\n	\n\n\n\n		\n	\n				\n				\n					\n		\n					\n		\n				\n						\n					\n			\n						\n				\n					\n	\n		\n\n	\n	Add to calendar	\n		\n	\n\n		\n			\n									\n	Google Calendar\n\n									\n	iCalendar\n\n									\n	Outlook 365\n\n									\n	Outlook Live\n\n							\n		\n\n		\n	\n\n				\n				\n					\n		\n					\n		\n				\n						\n					\n			\n						\n				\n					\n	\n		\n		\n	\n		Workshop - Slacks Creek Mosque
URL:https://qcservices.com.au/event/workshop/
LOCATION:74 Ernest St\, South Brisbane\, 74 Ernest Street\, South Brisbane\, Brisbane\, Queensland\, 4101\, Australia
CATEGORIES:PSCB Workshops
ATTACH;FMTTYPE=image/png:https://qcservices.com.au/wp-content/uploads/2025/08/Workshop-10-Aug-2025-2.png
ORGANIZER;CN="Queensland Compassionate Services":MAILTO:info@qcservices.com.au
END:VEVENT
END:VCALENDAR