BEGIN:VCALENDAR
VERSION:2.0
PRODID:-//Quality Compassionate Services - ECPv6.15.18//NONSGML v1.0//EN
CALSCALE:GREGORIAN
METHOD:PUBLISH
X-WR-CALNAME:Quality Compassionate Services
X-ORIGINAL-URL:https://qcservices.com.au
X-WR-CALDESC:Events for Quality Compassionate Services
REFRESH-INTERVAL;VALUE=DURATION:PT1H
X-Robots-Tag:noindex
X-PUBLISHED-TTL:PT1H
BEGIN:VTIMEZONE
TZID:Australia/Brisbane
BEGIN:STANDARD
TZOFFSETFROM:+1000
TZOFFSETTO:+1000
TZNAME:AEST
DTSTART:20240101T000000
END:STANDARD
END:VTIMEZONE
BEGIN:VEVENT
DTSTART;TZID=Australia/Brisbane:20250829T103000
DTEND;TZID=Australia/Brisbane:20250829T120000
DTSTAMP:20260422T114704
CREATED:20250814T033833Z
LAST-MODIFIED:20250819T021550Z
UID:28197-1756463400-1756468800@qcservices.com.au
SUMMARY:Workshop - Slacks Creek Mosque
DESCRIPTION:« All Events\n 				\n				\n				\n				\n					This event has passed. \n				\n				\n				\n				\n					\n	Workshop – Slacks Creek Mosque				\n				\n				\n				\n					\n	\n	Date & Time:	\n			August 29\, 2025\n\n	\n\n	 @ \n\n\n10:30 am\n\n		\n\n\n\n	\n	 - \n\n12:00 pm\n\n\n\n	\n				\n				\n				\n				\n					\n	\n				\n				\n				\n									DescriptionLanguage: English The following workshop is focused on Disability Employment\, especially for those in CALD communities.  Refreshments will be provided GUEST SPEAKER:Mr. Travis Windsor – Business Development Officer at Multicultural Mailer GUEST SPEAKER:Mr. Stephen Dale – Life experience motivator at Smiling Tiger SPEAKER:Ruby Halaseh – Support Coordinator and Psychosocial Recovery Coach								\n		\n					\n				\n					Register for this event				\n				\n									\n\n  \n\n\n\n  Your Name\n \n \n  Your Email\n \n \n\n Your Contact Number\n \n \n Postcode\n \n \nPlease Select One\nPlease select an optionI am a person with a disabilityI am a carerI am a family member\n \nI understand that this workshop is a safe space for open and respectful sharing. I agree to keep anything shared by other participants—such as personal stories\, names\, or identifying details—private and confidential. I will not share this information outside the group. Read our Privacy Policy at the bottom of this page.\nI agree\n \n\n \n\n\n								\n					\n				\n				\n						\n					\n			\n						\n				\n					\n	\n\n	Categories:	\n		PSCB Workshops	\n\n				\n				\n				\n				\n					\n	\n	Tags:	\n		\n	CALD\,\n\n	NDIS\,\n\n	PSCB\,\n\n	PSCB program\,\n\n	PSCB Workshop\,\n\n	Workshop\n	\n\n				\n				\n					\n		\n				\n			\n						\n				\n					\n	\n	Queensland Compassionate Services\n	\n	\n\n	Phone:\n					\n			+61 416 476 011			\n	 \n\n\n	\n\n	Website:View Organizer Website \n\n\n	\n	Email:\n					\n			info@qcservices.com.au			\n	 \n\n\n\n				\n				\n					\n		\n					\n		\n				\n						\n					\n			\n						\n				\n					\n				\n				\n	\n	16 Queens Rd\, Slacks Creek\n	\n	\n\n16 Queens Rd\, Slacks Creek\n	\n		\n		Brisbane\,\n\n	Queensland\n\n	4127\n\n	Australia\n\n\n\n\n	+ Google Map \n\n\n	\n					\n						\n	 \n\n\n	\n	View Venue Website \n\n\n\n	\n\n\n\n		\n	\n				\n				\n					\n		\n					\n		\n				\n						\n					\n			\n						\n				\n					\n	\n		\n\n	\n	Add to calendar	\n		\n	\n\n		\n			\n									\n	Google Calendar\n\n									\n	iCalendar\n\n									\n	Outlook 365\n\n									\n	Outlook Live\n\n							\n		\n\n		\n	\n\n				\n				\n					\n		\n					\n		\n				\n						\n					\n			\n						\n				\n					\n	\n		\n\n				Workshop - South Brisbane	\n\n\n		\n	\n		Halloween Cookie Decorating Activity
URL:https://qcservices.com.au/event/workshop-slacks-creek-mosque/
LOCATION:16 Queens Rd\, Slacks Creek\, 16 Queens Rd\, Slacks Creek\, Brisbane\, Queensland\, 4127\, Australia
CATEGORIES:PSCB Workshops
ATTACH;FMTTYPE=image/png:https://qcservices.com.au/wp-content/uploads/2025/08/Workshop-your-team.png
ORGANIZER;CN="Queensland Compassionate Services":MAILTO:info@qcservices.com.au
END:VEVENT
END:VCALENDAR